BEGIN:VCALENDAR
VERSION:2.0
BEGIN:VEVENT
DTSTART;TZID=Europe/Stockholm:20250302T100000
DTEND;TZID=Europe/Stockholm:20250302T110000
DTSTAMP:20260423T123547
DESCRIPTION:Thomas Mustonen
SEQUENCE:0
SUMMARY:Gudstjänst med nattvard
UID:4965@lawebb.se
END:VEVENT
END:VCALENDAR