BEGIN:VCALENDAR
VERSION:2.0
BEGIN:VEVENT
DTSTART;TZID=Europe/Stockholm:20250316T100000
DTEND;TZID=Europe/Stockholm:20250316T110000
DTSTAMP:20260423T122942
DESCRIPTION:
SEQUENCE:0
SUMMARY:Gemensam gudstjänst i Tallstigskyrkan
UID:7747@lawebb.se
END:VEVENT
END:VCALENDAR