BEGIN:VCALENDAR
VERSION:2.0
BEGIN:VEVENT
DTSTART;TZID=Europe/Stockholm:20250322T100000
DTEND;TZID=Europe/Stockholm:20250322T110000
DTSTAMP:20260423T123031
DESCRIPTION:Öppet 10.00 - 12.00
SEQUENCE:0
SUMMARY:Loppis
UID:4787@lawebb.se
END:VEVENT
END:VCALENDAR