BEGIN:VCALENDAR
VERSION:2.0
BEGIN:VEVENT
DTSTART;TZID=Europe/Stockholm:20250329T100000
DTEND;TZID=Europe/Stockholm:20250329T110000
DTSTAMP:20260423T122502
DESCRIPTION:Öppet 10.00 - 12.00
SEQUENCE:0
SUMMARY:Loppis
UID:6894@lawebb.se
END:VEVENT
END:VCALENDAR