BEGIN:VCALENDAR
VERSION:2.0
BEGIN:VEVENT
DTSTART;TZID=Europe/Stockholm:20250406T100000
DTEND;TZID=Europe/Stockholm:20250406T110000
DTSTAMP:20260423T142030
DESCRIPTION:med Sam Rosman. Nattvard
SEQUENCE:0
SUMMARY:Gudstjänst
UID:2437@lawebb.se
END:VEVENT
END:VCALENDAR