BEGIN:VCALENDAR
VERSION:2.0
BEGIN:VEVENT
DTSTART;TZID=Europe/Stockholm:20250409T140000
DTEND;TZID=Europe/Stockholm:20250409T150000
DTSTAMP:20260423T142337
DESCRIPTION:Öppet 14.00-17.00
SEQUENCE:0
SUMMARY:Loppis
UID:3232@lawebb.se
END:VEVENT
END:VCALENDAR