BEGIN:VCALENDAR
VERSION:2.0
BEGIN:VEVENT
DTSTART;TZID=Europe/Stockholm:20250413T180000
DTEND;TZID=Europe/Stockholm:20250413T190000
DTSTAMP:20260423T141533
DESCRIPTION:med Sam Rosman
SEQUENCE:0
SUMMARY:Bibelstudium och samtal
UID:3784@lawebb.se
END:VEVENT
END:VCALENDAR