BEGIN:VCALENDAR
VERSION:2.0
BEGIN:VEVENT
DTSTART;TZID=Europe/Stockholm:20250413T100000
DTEND;TZID=Europe/Stockholm:20250413T110000
DTSTAMP:20260423T142154
DESCRIPTION:Med familjen Modesha fr Karlskoga
SEQUENCE:0
SUMMARY:Gudstjänst, Ned Modesha
UID:8992@lawebb.se
END:VEVENT
END:VCALENDAR