BEGIN:VCALENDAR
VERSION:2.0
BEGIN:VEVENT
DTSTART;TZID=Europe/Stockholm:20250420T100000
DTEND;TZID=Europe/Stockholm:20250420T110000
DTSTAMP:20260423T142344
DESCRIPTION:Med Thomas Mustonen. Servering
SEQUENCE:0
SUMMARY:Gemensam gudstjänst i Bergskyrkan
UID:9843@lawebb.se
END:VEVENT
END:VCALENDAR