BEGIN:VCALENDAR
VERSION:2.0
BEGIN:VEVENT
DTSTART;TZID=Europe/Stockholm:20681201T100000
DTEND;TZID=Europe/Stockholm:20681201T110000
DTSTAMP:20260423T074136
DESCRIPTION:Öppet 10.00 - 12.00
SEQUENCE:0
SUMMARY:Loppis
UID:2638@lawebb.se
END:VEVENT
END:VCALENDARBEGIN:VCALENDAR
VERSION:2.0
BEGIN:VEVENT
DTSTART;TZID=Europe/Stockholm:20250423T140000
DTEND;TZID=Europe/Stockholm:20250423T150000
DTSTAMP:20260423T142044
DESCRIPTION:Öppet 14.00-17.00
SEQUENCE:0
SUMMARY:Loppis
UID:4564@lawebb.se
END:VEVENT
END:VCALENDAR