BEGIN:VCALENDAR
VERSION:2.0
BEGIN:VEVENT
DTSTART;TZID=Europe/Stockholm:20250506T190000
DTEND;TZID=Europe/Stockholm:20250506T200000
DTSTAMP:20260423T153704
DESCRIPTION:
SEQUENCE:0
SUMMARY:Bönetimman
UID:8763@lawebb.se
END:VEVENT
END:VCALENDAR