BEGIN:VCALENDAR
VERSION:2.0
BEGIN:VEVENT
DTSTART;TZID=Europe/Stockholm:20250510T180000
DTEND;TZID=Europe/Stockholm:20250510T190000
DTSTAMP:20260423T153744
DESCRIPTION:med Simon Ådahl och Örjan Armgren
SEQUENCE:0
SUMMARY:Kvällsmöte, Andens gåvor i vardagslivet
UID:2867@lawebb.se
END:VEVENT
END:VCALENDAR