BEGIN:VCALENDAR
VERSION:2.0
BEGIN:VEVENT
DTSTART;TZID=Europe/Stockholm:20250511T180000
DTEND;TZID=Europe/Stockholm:20250511T190000
DTSTAMP:20260423T153534
DESCRIPTION:med Sam Rosman
SEQUENCE:0
SUMMARY:Bibelstudium och samtal
UID:9528@lawebb.se
END:VEVENT
END:VCALENDAR