BEGIN:VCALENDAR
VERSION:2.0
BEGIN:VEVENT
DTSTART;TZID=Europe/Stockholm:20250521T093000
DTEND;TZID=Europe/Stockholm:20250521T103000
DTSTAMP:20260423T153839
DESCRIPTION:Språkträning med lite fika i Bergskyrkan 09.30-11.00
SEQUENCE:0
SUMMARY:Asylcafé
UID:3266@lawebb.se
END:VEVENT
END:VCALENDAR