BEGIN:VCALENDAR
VERSION:2.0
BEGIN:VEVENT
DTSTART;TZID=Europe/Stockholm:20250522T140000
DTEND;TZID=Europe/Stockholm:20250522T150000
DTSTAMP:20260423T154450
DESCRIPTION:med Ronny Söder och våra egna sångare
SEQUENCE:0
SUMMARY:Hjärtats Café
UID:8256@lawebb.se
END:VEVENT
END:VCALENDAR