BEGIN:VCALENDAR
VERSION:2.0
BEGIN:VEVENT
DTSTART;TZID=Europe/Stockholm:20250525T180000
DTEND;TZID=Europe/Stockholm:20250525T190000
DTSTAMP:20260423T153522
DESCRIPTION:med Sam Rosman
SEQUENCE:0
SUMMARY:Bibelstudium och samtal
UID:8345@lawebb.se
END:VEVENT
END:VCALENDAR