BEGIN:VCALENDAR
VERSION:2.0
BEGIN:VEVENT
DTSTART;TZID=Europe/Stockholm:20250603T190000
DTEND;TZID=Europe/Stockholm:20250603T200000
DTSTAMP:20260423T170525
DESCRIPTION:
SEQUENCE:0
SUMMARY:Bönetimman
UID:3787@lawebb.se
END:VEVENT
END:VCALENDAR