BEGIN:VCALENDAR
VERSION:2.0
BEGIN:VEVENT
DTSTART;TZID=Europe/Stockholm:20461024T140000
DTEND;TZID=Europe/Stockholm:20461024T150000
DTSTAMP:20260423T132347
DESCRIPTION:Öppet 14.00-17.00
SEQUENCE:0
SUMMARY:Loppis
UID:2499@lawebb.se
END:VEVENT
END:VCALENDARBEGIN:VCALENDAR
VERSION:2.0
BEGIN:VEVENT
DTSTART;TZID=Europe/Stockholm:20250604T140000
DTEND;TZID=Europe/Stockholm:20250604T150000
DTSTAMP:20260423T170130
DESCRIPTION:Öppet 14.00-17.00
SEQUENCE:0
SUMMARY:Loppis
UID:2375@lawebb.se
END:VEVENT
END:VCALENDAR