BEGIN:VCALENDAR
VERSION:2.0
BEGIN:VEVENT
DTSTART;TZID=Europe/Stockholm:20250606T093000
DTEND;TZID=Europe/Stockholm:20250606T103000
DTSTAMP:20260423T170621
DESCRIPTION:
SEQUENCE:0
SUMMARY:Nationaldagsbön i Metodistkyrkan
UID:2384@lawebb.se
END:VEVENT
END:VCALENDAR