BEGIN:VCALENDAR
VERSION:2.0
BEGIN:VEVENT
DTSTART;TZID=Europe/Stockholm:20250608T150000
DTEND;TZID=Europe/Stockholm:20250608T160000
DTSTAMP:20260423T170128
DESCRIPTION:Med Claes Engqvist. 
Vid regn flyttar vi gudstjänsen till Metodistkyrkan.
SEQUENCE:0
SUMMARY:Ekumenisk gudstjänst på Centrumtorget
UID:3834@lawebb.se
END:VEVENT
END:VCALENDAR