BEGIN:VCALENDAR
VERSION:2.0
BEGIN:VEVENT
DTSTART;TZID=Europe/Stockholm:20250611T140000
DTEND;TZID=Europe/Stockholm:20250611T150000
DTSTAMP:20260423T165815
DESCRIPTION:Öppet 14.00-17.00
SEQUENCE:0
SUMMARY:Loppis
UID:5798@lawebb.se
END:VEVENT
END:VCALENDAR