BEGIN:VCALENDAR
VERSION:2.0
BEGIN:VEVENT
DTSTART;TZID=Europe/Stockholm:20250615T180000
DTEND;TZID=Europe/Stockholm:20250615T190000
DTSTAMP:20260423T170417
DESCRIPTION:med Sam Rosman
SEQUENCE:0
SUMMARY:Bibelstudium och samtal
UID:5332@lawebb.se
END:VEVENT
END:VCALENDAR