BEGIN:VCALENDAR
VERSION:2.0
BEGIN:VEVENT
DTSTART;TZID=Europe/Stockholm:20250615T100000
DTEND;TZID=Europe/Stockholm:20250615T110000
DTSTAMP:20260423T170620
DESCRIPTION:
SEQUENCE:0
SUMMARY:Gudstjänst m Urban Arvidsson
UID:8974@lawebb.se
END:VEVENT
END:VCALENDAR