BEGIN:VCALENDAR
VERSION:2.0
BEGIN:VEVENT
DTSTART;TZID=Europe/Stockholm:20250617T190000
DTEND;TZID=Europe/Stockholm:20250617T200000
DTSTAMP:20260423T170129
DESCRIPTION:
SEQUENCE:0
SUMMARY:Bönetimman
UID:3382@lawebb.se
END:VEVENT
END:VCALENDAR