BEGIN:VCALENDAR
VERSION:2.0
BEGIN:VEVENT
DTSTART;TZID=Europe/Stockholm:20250629T100000
DTEND;TZID=Europe/Stockholm:20250629T110000
DTSTAMP:20260423T165956
DESCRIPTION:Sång av Roger Kindevåg
SEQUENCE:0
SUMMARY:Gudstjänst med Anders Olaison
UID:2563@lawebb.se
END:VEVENT
END:VCALENDAR