BEGIN:VCALENDAR
VERSION:2.0
BEGIN:VEVENT
DTSTART;TZID=Europe/Stockholm:20250701T190000
DTEND;TZID=Europe/Stockholm:20250701T200000
DTSTAMP:20260423T183130
DESCRIPTION:
SEQUENCE:0
SUMMARY:Bönetimman
UID:5583@lawebb.se
END:VEVENT
END:VCALENDAR