BEGIN:VCALENDAR
VERSION:2.0
BEGIN:VEVENT
DTSTART;TZID=Europe/Stockholm:20250713T100000
DTEND;TZID=Europe/Stockholm:20250713T110000
DTSTAMP:20260423T182804
DESCRIPTION:Peter Johansson
SEQUENCE:0
SUMMARY:Gemensam gudstjänst i Tallstigskyrkan
UID:9898@lawebb.se
END:VEVENT
END:VCALENDAR