BEGIN:VCALENDAR
VERSION:2.0
BEGIN:VEVENT
DTSTART;TZID=Europe/Stockholm:20250722T190000
DTEND;TZID=Europe/Stockholm:20250722T200000
DTSTAMP:20260423T183037
DESCRIPTION:
SEQUENCE:0
SUMMARY:Bönetimman
UID:2694@lawebb.se
END:VEVENT
END:VCALENDAR