BEGIN:VCALENDAR
VERSION:2.0
BEGIN:VEVENT
DTSTART;TZID=Europe/Stockholm:20250727T100000
DTEND;TZID=Europe/Stockholm:20250727T110000
DTSTAMP:20260423T183128
DESCRIPTION:Simon Joelsson
SEQUENCE:0
SUMMARY:Gemensam gudstjänst i Metodistkyrkan
UID:6956@lawebb.se
END:VEVENT
END:VCALENDAR