BEGIN:VCALENDAR
VERSION:2.0
BEGIN:VEVENT
DTSTART;TZID=Europe/Stockholm:20250803T100000
DTEND;TZID=Europe/Stockholm:20250803T110000
DTSTAMP:20260423T201003
DESCRIPTION:Nattvard
SEQUENCE:0
SUMMARY:Gudstjänst m Bo Rudolfsson
UID:8499@lawebb.se
END:VEVENT
END:VCALENDAR