BEGIN:VCALENDAR
VERSION:2.0
BEGIN:VEVENT
DTSTART;TZID=Europe/Stockholm:20250806T140000
DTEND;TZID=Europe/Stockholm:20250806T150000
DTSTAMP:20260423T200845
DESCRIPTION:På Järnvägsgatan 7
Öppet 14.00 - 16.30
SEQUENCE:0
SUMMARY:Bergskyrkans Boutique
UID:6427@lawebb.se
END:VEVENT
END:VCALENDAR