BEGIN:VCALENDAR
VERSION:2.0
BEGIN:VEVENT
DTSTART;TZID=Europe/Stockholm:20250810T100000
DTEND;TZID=Europe/Stockholm:20250810T110000
DTSTAMP:20260423T201020
DESCRIPTION:Peter Johansson
SEQUENCE:0
SUMMARY:Gemensam gudstjänst i Tallstigskyrkan
UID:8929@lawebb.se
END:VEVENT
END:VCALENDAR