BEGIN:VCALENDAR
VERSION:2.0
BEGIN:VEVENT
DTSTART;TZID=Europe/Stockholm:20250813T140000
DTEND;TZID=Europe/Stockholm:20250813T150000
DTSTAMP:20260423T200756
DESCRIPTION:Öppet 14.00 - 17.00
SEQUENCE:0
SUMMARY:Loppis
UID:4358@lawebb.se
END:VEVENT
END:VCALENDAR