BEGIN:VCALENDAR
VERSION:2.0
BEGIN:VEVENT
DTSTART;TZID=Europe/Stockholm:20231011T140000
DTEND;TZID=Europe/Stockholm:20231011T150000
DTSTAMP:20260423T100553
DESCRIPTION:Öppet 14.00-17.00
SEQUENCE:0
SUMMARY:Loppis
UID:9757@lawebb.se
END:VEVENT
END:VCALENDARBEGIN:VCALENDAR
VERSION:2.0
BEGIN:VEVENT
DTSTART;TZID=Europe/Stockholm:20250816T100000
DTEND;TZID=Europe/Stockholm:20250816T110000
DTSTAMP:20260423T201132
DESCRIPTION:Öppet 10.00 - 12.00
SEQUENCE:0
SUMMARY:Loppis
UID:5866@lawebb.se
END:VEVENT
END:VCALENDAR