BEGIN:VCALENDAR
VERSION:2.0
BEGIN:VEVENT
DTSTART;TZID=Europe/Stockholm:20250826T190000
DTEND;TZID=Europe/Stockholm:20250826T200000
DTSTAMP:20260423T200206
DESCRIPTION:
SEQUENCE:0
SUMMARY:Bönetimman
UID:3864@lawebb.se
END:VEVENT
END:VCALENDAR