BEGIN:VCALENDAR
VERSION:2.0
BEGIN:VEVENT
DTSTART;TZID=Europe/Stockholm:20250827T140000
DTEND;TZID=Europe/Stockholm:20250827T150000
DTSTAMP:20260423T201138
DESCRIPTION:Öppet 14.00-17.00
SEQUENCE:0
SUMMARY:Loppis
UID:6594@lawebb.se
END:VEVENT
END:VCALENDAR