BEGIN:VCALENDAR
VERSION:2.0
BEGIN:VEVENT
DTSTART;TZID=Europe/Stockholm:20250830T100000
DTEND;TZID=Europe/Stockholm:20250830T110000
DTSTAMP:20260423T200546
DESCRIPTION:Öppet 10.00 - 12.00
SEQUENCE:0
SUMMARY:Loppis
UID:3489@lawebb.se
END:VEVENT
END:VCALENDAR