BEGIN:VCALENDAR
VERSION:2.0
BEGIN:VEVENT
DTSTART;TZID=Europe/Stockholm:20250831T100000
DTEND;TZID=Europe/Stockholm:20250831T110000
DTSTAMP:20260423T201135
DESCRIPTION:Hans Wallstedt
SEQUENCE:0
SUMMARY:Gemensam gudstjänst i Metodistkyrkan
UID:8567@lawebb.se
END:VEVENT
END:VCALENDAR