BEGIN:VCALENDAR
VERSION:2.0
BEGIN:VEVENT
DTSTART;TZID=Europe/Stockholm:20450211T100000
DTEND;TZID=Europe/Stockholm:20450211T110000
DTSTAMP:20260422T124249
DESCRIPTION:Öppet 10.00 - 12.00
SEQUENCE:0
SUMMARY:Loppis
UID:9459@lawebb.se
END:VEVENT
END:VCALENDARBEGIN:VCALENDAR
VERSION:2.0
BEGIN:VEVENT
DTSTART;TZID=Europe/Stockholm:20250913T100000
DTEND;TZID=Europe/Stockholm:20250913T110000
DTSTAMP:20260422T163602
DESCRIPTION:Öppet 10.00 - 12.00
SEQUENCE:0
SUMMARY:Loppis
UID:2926@lawebb.se
END:VEVENT
END:VCALENDAR