BEGIN:VCALENDAR
VERSION:2.0
BEGIN:VEVENT
DTSTART;TZID=Europe/Stockholm:20250923T190000
DTEND;TZID=Europe/Stockholm:20250923T200000
DTSTAMP:20260424T102009
DESCRIPTION:
SEQUENCE:0
SUMMARY:Bönetimman
UID:5595@lawebb.se
END:VEVENT
END:VCALENDAR