BEGIN:VCALENDAR
VERSION:2.0
BEGIN:VEVENT
DTSTART;TZID=Europe/Stockholm:20541114T100000
DTEND;TZID=Europe/Stockholm:20541114T110000
DTSTAMP:20260422T052615
DESCRIPTION:Öppet 10.00 - 12.00
SEQUENCE:0
SUMMARY:Loppis
UID:4377@lawebb.se
END:VEVENT
END:VCALENDARBEGIN:VCALENDAR
VERSION:2.0
BEGIN:VEVENT
DTSTART;TZID=Europe/Stockholm:20251018T100000
DTEND;TZID=Europe/Stockholm:20251018T110000
DTSTAMP:20260422T150848
DESCRIPTION:Öppet 10.00 - 12.00
SEQUENCE:0
SUMMARY:Loppis
UID:4543@lawebb.se
END:VEVENT
END:VCALENDAR