BEGIN:VCALENDAR
VERSION:2.0
BEGIN:VEVENT
DTSTART;TZID=Europe/Stockholm:20251019T110000
DTEND;TZID=Europe/Stockholm:20251019T120000
DTSTAMP:20260422T151328
DESCRIPTION:Urban Arvidsson
SEQUENCE:0
SUMMARY:Gemensam gudstjänst i Metodistkyrkan
UID:2977@lawebb.se
END:VEVENT
END:VCALENDAR