BEGIN:VCALENDAR
VERSION:2.0
BEGIN:VEVENT
DTSTART;TZID=Europe/Stockholm:20251022T093000
DTEND;TZID=Europe/Stockholm:20251022T103000
DTSTAMP:20260422T151050
DESCRIPTION:Språkträning med lite fika i Bergskyrkan 09.30-11.00
SEQUENCE:0
SUMMARY:Asylcafé
UID:2399@lawebb.se
END:VEVENT
END:VCALENDAR