BEGIN:VCALENDAR
VERSION:2.0
BEGIN:VEVENT
DTSTART;TZID=Europe/Stockholm:20251102T100000
DTEND;TZID=Europe/Stockholm:20251102T110000
DTSTAMP:20260422T134524
DESCRIPTION:Nattvard och församlingsmöte
SEQUENCE:0
SUMMARY:Gudstjänst med Thomas Mustonen
UID:9454@lawebb.se
END:VEVENT
END:VCALENDAR