BEGIN:VCALENDAR
VERSION:2.0
BEGIN:VEVENT
DTSTART;TZID=Europe/Stockholm:20251104T190000
DTEND;TZID=Europe/Stockholm:20251104T200000
DTSTAMP:20260422T134154
DESCRIPTION:
SEQUENCE:0
SUMMARY:Bönetimman
UID:7758@lawebb.se
END:VEVENT
END:VCALENDAR