BEGIN:VCALENDAR
VERSION:2.0
BEGIN:VEVENT
DTSTART;TZID=Europe/Stockholm:20560517T093000
DTEND;TZID=Europe/Stockholm:20560517T103000
DTSTAMP:20260422T053404
DESCRIPTION:Språkträning med lite fika i Bergskyrkan 09.30-11.00
SEQUENCE:0
SUMMARY:Asylcafé
UID:7892@lawebb.se
END:VEVENT
END:VCALENDARBEGIN:VCALENDAR
VERSION:2.0
BEGIN:VEVENT
DTSTART;TZID=Europe/Stockholm:20251112T093000
DTEND;TZID=Europe/Stockholm:20251112T103000
DTSTAMP:20260422T134900
DESCRIPTION:Språkträning med lite fika i Bergskyrkan 09.30-11.00
SEQUENCE:0
SUMMARY:Asylcafé
UID:7648@lawebb.se
END:VEVENT
END:VCALENDAR