BEGIN:VCALENDAR
VERSION:2.0
BEGIN:VEVENT
DTSTART;TZID=Europe/Stockholm:20251116T110000
DTEND;TZID=Europe/Stockholm:20251116T120000
DTSTAMP:20260422T135126
DESCRIPTION:Anette Brandberg
SEQUENCE:0
SUMMARY:Gemensam gudstjänst i Tallstigskyrkan
UID:9474@lawebb.se
END:VEVENT
END:VCALENDAR