BEGIN:VCALENDAR
VERSION:2.0
BEGIN:VEVENT
DTSTART;TZID=Europe/Stockholm:20251125T190000
DTEND;TZID=Europe/Stockholm:20251125T200000
DTSTAMP:20260422T134556
DESCRIPTION:
SEQUENCE:0
SUMMARY:Bönetimman
UID:8282@lawebb.se
END:VEVENT
END:VCALENDAR