BEGIN:VCALENDAR
VERSION:2.0
BEGIN:VEVENT
DTSTART;TZID=Europe/Stockholm:20251130T100000
DTEND;TZID=Europe/Stockholm:20251130T110000
DTSTAMP:20260422T134512
DESCRIPTION:1a Advent. Servering
SEQUENCE:0
SUMMARY:Gudstjänst med Ned Modesha
UID:2394@lawebb.se
END:VEVENT
END:VCALENDAR