BEGIN:VCALENDAR
VERSION:2.0
BEGIN:VEVENT
DTSTART;TZID=Europe/Stockholm:20251206T100000
DTEND;TZID=Europe/Stockholm:20251206T110000
DTSTAMP:20260422T121552
DESCRIPTION:Öppet 10.00 - 12.00
SEQUENCE:0
SUMMARY:Loppis
UID:4572@lawebb.se
END:VEVENT
END:VCALENDAR